BEGIN:VCALENDAR
VERSION:2.0
PRODID:-//ChamberMaster//Event Calendar 2.0//EN
METHOD:PUBLISH
X-PUBLISHED-TTL:P3D
REFRESH-INTERVAL:P3D
CALSCALE:GREGORIAN
BEGIN:VEVENT
DTSTART:20080725T170000Z
DTEND:20080725T190000Z
X-MICROSOFT-CDO-ALLDAYEVENT:FALSE
SUMMARY:Children's Entertainment Series - Chris Fascione
DESCRIPTION:Chris Fascione the Storyteller will have you rolling in the grass with his laughter. He brings children's stories to life with energy\, humor and imagination. Grab a blanket and picnic and come out and listen to the free show. This event is hosted by the Cary Park District.
X-ALT-DESC;FMTTYPE=text/html:<div><font size="2"><span style="font-size: 10pt\; color: black">Chris Fascione the Storyteller will have you rolling in the grass with his laughter.&nbsp\;He brings children&rsquo\;s stories to life with energy\, humor and imagination.&nbsp\;</span>Grab a blanket and picnic and come out and listen to the free show. </font>This event is hosted by the Cary Park District.</div>
LOCATION:Lions Park Rotary Bandshell Silver Lake Road\, Cary
UID:e.138.275
SEQUENCE:3
DTSTAMP:20260425T122002Z
URL:https://business.carygrovechamber.com/events/details/children-s-entertainment-series-chris-fascione-07-25-2008-275
END:VEVENT

END:VCALENDAR
