BEGIN:VCALENDAR
VERSION:2.0
PRODID:-//ChamberMaster//Event Calendar 2.0//EN
METHOD:PUBLISH
X-PUBLISHED-TTL:P3D
REFRESH-INTERVAL:P3D
CALSCALE:GREGORIAN
BEGIN:VEVENT
DTSTART;VALUE=DATE:20080711
DTEND;VALUE=DATE:20080712
TRANSP:TRANSPARENT
X-MICROSOFT-CDO-ALLDAYEVENT:TRUE
SUMMARY:Children's Entertainment Series - Dave Rudolf
DESCRIPTION:Listen to great beach music and have fun in the sun at this interactive party. Grab a blanket and picnic and come out and listen to the free show. This event is hosted by the Cary Park District.
X-ALT-DESC;FMTTYPE=text/html:<div><span style="font-size: 10pt\; color: black">Listen to great beach music and have fun in the sun at this interactive party. <span style="font-size: 10pt\; color: black">Grab a blanket and picnic and come out and listen to the free show. </span></span>This event is hosted by the Cary Park District.</div>
LOCATION:Lions Park Rotary Bandshell Silver Lake Road\, Cary
UID:e.138.272
SEQUENCE:3
DTSTAMP:20260425T121840Z
URL:https://business.carygrovechamber.com/events/details/children-s-entertainment-series-dave-rudolf-07-11-2008-272
END:VEVENT

END:VCALENDAR
