BEGIN:VCALENDAR
VERSION:2.0
PRODID:-//ChamberMaster//Event Calendar 2.0//EN
METHOD:PUBLISH
X-PUBLISHED-TTL:P3D
REFRESH-INTERVAL:P3D
CALSCALE:GREGORIAN
BEGIN:VEVENT
DTSTART;VALUE=DATE:20080718
DTEND;VALUE=DATE:20080719
TRANSP:TRANSPARENT
X-MICROSOFT-CDO-ALLDAYEVENT:TRUE
SUMMARY:Children's Entertainment Series - Dennis DeBondt the Magician
DESCRIPTION:Dennis DeDondt the Magician will perform amazing tricks including a child floating in the air. Grab a blanket and picnic and come out and listen to the free show. This event is hosted by the Cary Park District.
X-ALT-DESC;FMTTYPE=text/html:<div><span style="font-size: 10pt\; color: black"><span style="font-size: 10pt\; color: black">Dennis DeDondt the Magician will perform amazing tricks including a child floating in the air.&nbsp\;</span>Grab a blanket and picnic and come out and listen to the free show. </span>This event is hosted by the Cary Park District.</div>
LOCATION:Lions Park Rotary Bandshell Silver Lake Road\, Cary
UID:e.138.274
SEQUENCE:3
DTSTAMP:20260425T122004Z
URL:https://business.carygrovechamber.com/events/details/children-s-entertainment-series-dennis-debondt-the-magician-07-18-2008-274
END:VEVENT

END:VCALENDAR
