BEGIN:VCALENDAR
VERSION:2.0
PRODID:-//ChamberMaster//Event Calendar 2.0//EN
METHOD:PUBLISH
X-PUBLISHED-TTL:P3D
REFRESH-INTERVAL:P3D
CALSCALE:GREGORIAN
BEGIN:VEVENT
DTSTART;VALUE=DATE:20090506
DTEND;VALUE=DATE:20090507
TRANSP:TRANSPARENT
X-MICROSOFT-CDO-ALLDAYEVENT:TRUE
SUMMARY:Chinese Nutrition by Cooking with the Season
DESCRIPTION:Janine Jozwiak of Nature Balance Accupuncture has teamed up with a local chef to discuss Chinese nutrition.  Chinese nutrition is not about avoiding high cholesterol foods or eating foods high in antioxidants or even making sure you get enough fiber. It's not about proteins\, calories\, vitamins\, enzymes or minerals. Instead\, Chinese nutrition is about the five flavors and energies of foods and the movements of foods. Chinese nutrition is about living close to nature and eating for the season. Learn how to eat healthy for the season.   Call Nature Balance for more information or to register at 815-788-8383.
X-ALT-DESC;FMTTYPE=text/html:Janine Jozwiak of Nature Balance Accupuncture has teamed up with a local chef to discuss Chinese nutrition.  Chinese nutrition is not about avoiding high cholesterol foods or eating foods high in antioxidants or even making sure you get enough fiber. It's not about proteins\, calories\, vitamins\, enzymes or minerals. Instead\, Chinese nutrition is about the five flavors and energies of foods and the movements of foods. Chinese nutrition is about living close to nature and eating for the season. Learn how to eat healthy for the season.   Call Nature Balance for more information or to register at 815-788-8383.
LOCATION:Clueless in the Kitchen
UID:e.138.442
SEQUENCE:3
DTSTAMP:20260424T214849Z
URL:https://business.carygrovechamber.com/events/details/chinese-nutrition-by-cooking-with-the-season-05-06-2009-442
END:VEVENT

END:VCALENDAR
