BEGIN:VCALENDAR
VERSION:2.0
PRODID:-//ChamberMaster//Event Calendar 2.0//EN
METHOD:PUBLISH
X-PUBLISHED-TTL:P3D
REFRESH-INTERVAL:P3D
CALSCALE:GREGORIAN
BEGIN:VEVENT
DTSTART;VALUE=DATE:20090810
DTEND;VALUE=DATE:20090816
TRANSP:TRANSPARENT
X-MICROSOFT-CDO-ALLDAYEVENT:TRUE
SUMMARY:Chiropractic Opportunity Week at Cary Chiropractic
DESCRIPTION:Dr. Barthen is having a C.O.W.!\nCary Chiropractic Offices is hosting Chiropractic Opportunity Week (C.O.W.)\, August 10 - 15. EveryBODY is invited! Friends\, family\, neighbors and co-workers\, because everyBODY can benefit from Chiropractic therapy! Attendees will receive a COMPLIMENTARY examination\, computerized scan of their spine\, and spinal x-rays. This is a great opportunity\, so call today at (847) 639-0010 to schedule an appointment and mention this special week! Cary Chiropractic is located at 395C Cary Algonquin Rd. in Cary.
X-ALT-DESC;FMTTYPE=text/html:<div><span style="font-family: Arial\; color: black\; font-size: 11pt\; mso-bidi-font-size: 12.0pt\; mso-fareast-font-family: 'Times New Roman'\; mso-bidi-font-family: 'Times New Roman'\; mso-ansi-language: EN-US\; mso-fareast-language: EN-US\; mso-bidi-language: AR-SA"><div style="line-height: 14.4pt\; margin: 0in 0in 0pt"><strong><span>Dr. Barthen is having a C.O.W.!<br />Cary Chiropractic Offices</span><span style="color: black\; font-size: 11pt"> is hosting Chiropractic Opportunity Week (C.O.W.)\,&nbsp\;August 10 - 15. EveryBODY is invited!&nbsp\;Friends\, family\, neighbors and co-workers\, because everyBODY can benefit from Chiropractic therapy! Attendees will receive a COMPLIMENTARY examination\, computerized scan of their spine\, and spinal x-rays. This is a great opportunity\,&nbsp\;so call today at (847) 639-0010 to schedule an appointment and mention this special week! Cary Chiropractic is located at 395C </span><span style="color: black\; font-size: 11pt">Cary Algonquin Rd.</span><span style="color: black\; font-size: 11pt"> in </span><span style="color: black\; font-size: 11pt">Cary</span><span style="color: black\; font-size: 11pt">.</span></strong></div>&nbsp\;</span></div>
LOCATION:Cary Chiropractic Offices395C Cary Algonquin Rd. in Cary.
UID:e.138.535
SEQUENCE:3
DTSTAMP:20260424T180204Z
URL:https://business.carygrovechamber.com/events/details/chiropractic-opportunity-week-at-cary-chiropractic-08-10-2009-535
END:VEVENT

END:VCALENDAR
