BEGIN:VCALENDAR
VERSION:2.0
PRODID:-//ChamberMaster//Event Calendar 2.0//EN
METHOD:PUBLISH
X-PUBLISHED-TTL:P3D
REFRESH-INTERVAL:P3D
CALSCALE:GREGORIAN
BEGIN:VEVENT
DTSTART;VALUE=DATE:20080419
DTEND;VALUE=DATE:20080420
TRANSP:TRANSPARENT
X-MICROSOFT-CDO-ALLDAYEVENT:TRUE
SUMMARY:Chris Brubeck's Triple Play
DESCRIPTION:This dynamic ensemble performs everything including jazz\, folk\, blues and classics. The group is led by multi-talented Chris Brubeck\, the son of legendary jazz musician\, Dave Brubeck\, and includes the creative combination of Joel Brown on guitar and Peter ?Madcat? Ruth on harmonica. This band crosses musical genres with feel good music and extraordinary talent.
X-ALT-DESC;FMTTYPE=text/html:This dynamic ensemble performs everything including jazz\, folk\, blues and classics. The group is led by multi-talented Chris Brubeck\, the son of legendary jazz musician\, Dave Brubeck\, and includes the creative combination of Joel Brown on guitar and Peter ?Madcat? Ruth on harmonica. This band crosses musical genres with feel good music and extraordinary talent.
LOCATION:Raue Center For The Arts 26 N. Williams Street Crystal Lake\, IL 60014
UID:e.138.174
SEQUENCE:3
DTSTAMP:20260425T170127Z
URL:https://business.carygrovechamber.com/events/details/chris-brubeck-s-triple-play-04-19-2008-174
END:VEVENT

END:VCALENDAR
