BEGIN:VCALENDAR
VERSION:2.0
PRODID:-//ChamberMaster//Event Calendar 2.0//EN
METHOD:PUBLISH
X-PUBLISHED-TTL:P3D
REFRESH-INTERVAL:P3D
CALSCALE:GREGORIAN
BEGIN:VEVENT
DTSTART:20091227T210000Z
DTEND:20091227T230000Z
X-MICROSOFT-CDO-ALLDAYEVENT:FALSE
SUMMARY:Classic Film Series Presented by Friends of the Raue
DESCRIPTION:Keeping film alive at Raue Center! Join us for a monthly movie as we celebrate 80 years of memorable films. December's film is Mary Poppins! \n\nAbout the Film\nThe movie combines a diverting story\, songs\, color and sequences of live action blended with the movements of animated figures. Mary Poppins is a kind of Super-nanny who flies in with her umbrella in response to the request of the Banks children and proceeds to put things right with the aid of her rather extraordinary magical powers before flying off again.
X-ALT-DESC;FMTTYPE=text/html:Keeping film alive at Raue Center! Join us for a monthly movie as we celebrate 80 years of memorable films. December's film is Mary Poppins! \n\nAbout the Film\nThe movie combines a diverting story\, songs\, color and sequences of live action blended with the movements of animated figures. Mary Poppins is a kind of Super-nanny who flies in with her umbrella in response to the request of the Banks children and proceeds to put things right with the aid of her rather extraordinary magical powers before flying off again.
LOCATION:Raue Center For The Arts 26 North Williams Street Crystal Lake\, IL 60014
UID:e.138.647
SEQUENCE:3
DTSTAMP:20260424T130326Z
URL:https://business.carygrovechamber.com/events/details/classic-film-series-presented-by-friends-of-the-raue-12-27-2009-647
END:VEVENT

END:VCALENDAR
