BEGIN:VCALENDAR
VERSION:2.0
PRODID:-//ChamberMaster//Event Calendar 2.0//EN
METHOD:PUBLISH
X-PUBLISHED-TTL:P3D
REFRESH-INTERVAL:P3D
CALSCALE:GREGORIAN
BEGIN:VEVENT
DTSTART:20070529T220000Z
DTEND:20070530T000000Z
X-MICROSOFT-CDO-ALLDAYEVENT:FALSE
SUMMARY:Coffee Station Mixer
DESCRIPTION:Coffee Station\, located at the corner of Spring and West Main in downtown Cary is hosting a mixer from 5 - 7 p.m.
X-ALT-DESC;FMTTYPE=text/html:Coffee Station\, located at the corner of Spring and West Main in downtown Cary is hosting a mixer from 5 - 7 p.m.
LOCATION:77 W. Main\, downtown Cary
UID:e.138.57
SEQUENCE:3
DTSTAMP:20260425T214736Z
URL:https://business.carygrovechamber.com/events/details/coffee-station-mixer-05-29-2007-57
END:VEVENT

END:VCALENDAR
