BEGIN:VCALENDAR
VERSION:2.0
PRODID:-//ChamberMaster//Event Calendar 2.0//EN
METHOD:PUBLISH
X-PUBLISHED-TTL:P3D
REFRESH-INTERVAL:P3D
CALSCALE:GREGORIAN
BEGIN:VEVENT
DTSTART:20190628T140000Z
DTEND:20190628T153000Z
X-MICROSOFT-CDO-ALLDAYEVENT:FALSE
SUMMARY:Coffee with Casten
DESCRIPTION:Join us Friday\, June 28 from 9-10:30 a.m. at the Algonquin Village Hall and have coffee with Congressmen Sean Casten. Hear about current legislation at the federal level and participate in an open but friendly discussion on issues facing today's voters.
X-ALT-DESC;FMTTYPE=text/html:<span style="color: rgb(29\, 33\, 41)\; font-family: Helvetica\, Arial\, sans-serif\; font-size: 14px\; white-space: pre-wrap\;">Join us Friday\, June 28 from 9-10:30 a.m. at the Algonquin Village Hall and have coffee with Congressmen Sean Casten. Hear about current legislation at the federal level and participate in an open but friendly discussion on issues facing today&#39\;s voters. </span>
LOCATION:
UID:e.138.9687
SEQUENCE:3
DTSTAMP:20260419T180253Z
URL:https://business.carygrovechamber.com/events/details/coffee-with-casten-9687
END:VEVENT

END:VCALENDAR
