BEGIN:VCALENDAR
VERSION:2.0
PRODID:-//ChamberMaster//Event Calendar 2.0//EN
METHOD:PUBLISH
X-PUBLISHED-TTL:P3D
REFRESH-INTERVAL:P3D
CALSCALE:GREGORIAN
BEGIN:VEVENT
DTSTART;VALUE=DATE:20080315
DTEND;VALUE=DATE:20080316
TRANSP:TRANSPARENT
X-MICROSOFT-CDO-ALLDAYEVENT:TRUE
SUMMARY:Colin Quinn-St. Patty's Day Comedy
DESCRIPTION:Spend the evening with the fine Irish lad who has graced the airways on Saturday Night Live and MTV. Noted as being one of the stand-out comics of the 80s\, Colin Quinn played to Hollywood in the 90s and was recently reborn in the world of comedy. His latest Comedy Central special and roasting of Dane Cook and Dennis Leary placed him back on the map. Be sure to get your tickets fast for this sure-to-be sold out show!
X-ALT-DESC;FMTTYPE=text/html:Spend the evening with the fine Irish lad who has graced the airways on Saturday Night Live and MTV. Noted as being one of the stand-out comics of the 80s\, Colin Quinn played to Hollywood in the 90s and was recently reborn in the world of comedy. His latest Comedy Central special and roasting of Dane Cook and Dennis Leary placed him back on the map. Be sure to get your tickets fast for this sure-to-be sold out show!
LOCATION:Raue Center For The Arts 26 N. Willams Street Crystal Lake\, IL 60014
UID:e.138.169
SEQUENCE:3
DTSTAMP:20260425T181317Z
URL:https://business.carygrovechamber.com/events/details/colin-quinn-st-patty-s-day-comedy-03-15-2008-169
END:VEVENT

END:VCALENDAR
