BEGIN:VCALENDAR
VERSION:2.0
PRODID:-//ChamberMaster//Event Calendar 2.0//EN
METHOD:PUBLISH
X-PUBLISHED-TTL:P3D
REFRESH-INTERVAL:P3D
CALSCALE:GREGORIAN
BEGIN:VEVENT
DTSTART;VALUE=DATE:20100110
DTEND;VALUE=DATE:20100111
TRANSP:TRANSPARENT
X-MICROSOFT-CDO-ALLDAYEVENT:TRUE
SUMMARY:Community Center Celebration
DESCRIPTION:Area residents are invited to celebrate the completion of the Community Center renovation on Sunday\, January 10 beginning at 1 p.m. The celebration will take place at the Community Center\, 255 Briargate Road in Cary. The renovation began in June and included renovating the three racquetball courts into program rooms\, the addition of an elevator\, the addition of restrooms on the lower level\, and the remodel of existing spaces including the lobby\, the FitnessCenter\, locker rooms\, and some of the original program rooms. The Community Center now contains a dance studio\, a large banquet/meeting room\, three multipurpose rooms\, an aerobics studio\, and an early childhood room. The FitnessCenter received a makeover with a larger strength room\, a private room for personal training\, a new layout\, and brand new cardio and strength training equipment. For more information about the Community Center Celebration and Open House\, visit www.carypark.com or call (847) 639-6100.
X-ALT-DESC;FMTTYPE=text/html:<div><span style="color: black\; font-size: 11pt">Area residents are invited to celebrate the completion of the Community Center renovation on Sunday\, January 10 beginning at </span><span style="color: black\; font-size: 11pt">1 p.m.</span><span style="color: black\; font-size: 11pt"> The celebration will take place at the Community Center\, </span><span style="color: black\; font-size: 11pt">255 Briargate Road</span><span style="color: black\; font-size: 11pt"> in </span><span style="color: black\; font-size: 11pt">Cary</span><span style="color: black\; font-size: 11pt">.&nbsp\;The renovation began in June and included renovating the three racquetball courts into program rooms\, the addition of an elevator\, the addition of restrooms on the lower level\, and the remodel of existing spaces including the lobby\, the </span><span style="color: black\; font-size: 11pt">Fitness</span><span style="color: black\; font-size: 11pt">Center</span><span style="color: black\; font-size: 11pt">\, locker rooms\, and some of the original program rooms. The Community Center now contains a dance studio\, a large banquet/meeting room\, three multipurpose rooms\, an aerobics studio\, and an early childhood room. The </span><span style="color: black\; font-size: 11pt">Fitness</span><span style="color: black\; font-size: 11pt">Center</span><span style="color: black\; font-size: 11pt"> received a makeover with a larger strength room\, a private room for personal training\, a new layout\, and brand new cardio and strength training equipment. </span><span style="color: black\; font-size: 11pt">For more information about the Community Center Celebration and Open House\, visit <a href="http://www.carypark.com/" rel="nofollow" target="_blank"><span style="color: black">www.carypark.com</span></a> or call (847) 639-6100.</span></div>
LOCATION:Community Center255 Briargate Road in Cary
UID:e.138.695
SEQUENCE:3
DTSTAMP:20260424T112947Z
URL:https://business.carygrovechamber.com/events/details/community-center-celebration-01-10-2010-695
END:VEVENT

END:VCALENDAR
