BEGIN:VCALENDAR
VERSION:2.0
PRODID:-//ChamberMaster//Event Calendar 2.0//EN
METHOD:PUBLISH
X-PUBLISHED-TTL:P3D
REFRESH-INTERVAL:P3D
CALSCALE:GREGORIAN
BEGIN:VEVENT
DTSTART;VALUE=DATE:20091003
DTEND;VALUE=DATE:20091004
TRANSP:TRANSPARENT
X-MICROSOFT-CDO-ALLDAYEVENT:TRUE
SUMMARY:Community Garage Sale at Tony V's II
DESCRIPTION:A community garage sale on Saturday\, October 3 from 9 to 3 p.m. at Tony V's II to raise money for young adults with developmental disabilities. Tables may be reserved in advance for $20 each\, which will be donated to McCap\, a learning program for young adults with developmental disabilities. Each table will keep the money they earn from sales. Live music by "The Spectacles" begins at 5 p.m. There is a $10 cover charge\, which again will go to McCap. To reserve your table or for questions\, call (847) 516-0444. Tony V's is located at 6506 Silver Lake Road in Cary.
X-ALT-DESC;FMTTYPE=text/html:<div>A community garage sale on Saturday\, October 3 from 9 to 3 p.m. at Tony V&rsquo\;s II to raise money for young adults with developmental disabilities. Tables may be reserved in advance for $20 each\, which will be donated to McCap\, a learning program for young adults with developmental disabilities. Each table will keep the money they earn from sales. Live music by &quot\;The Spectacles&quot\;&nbsp\;begins at 5 p.m. There is a $10 cover charge\, which again will go to McCap. To reserve your table or for questions\, call (847) 516-0444. Tony V's is located at 6506 Silver Lake Road in Cary.</div>
LOCATION:Tony V's6506 Silver Lake Road in Cary
UID:e.138.593
SEQUENCE:3
DTSTAMP:20260424T153554Z
URL:https://business.carygrovechamber.com/events/details/community-garage-sale-at-tony-v-s-ii-10-03-2009-593
END:VEVENT

END:VCALENDAR
