BEGIN:VCALENDAR
VERSION:2.0
PRODID:-//ChamberMaster//Event Calendar 2.0//EN
METHOD:PUBLISH
X-PUBLISHED-TTL:P3D
REFRESH-INTERVAL:P3D
CALSCALE:GREGORIAN
BEGIN:VEVENT
DTSTART:20070615T170000Z
DTEND:20070615T220000Z
X-MICROSOFT-CDO-ALLDAYEVENT:FALSE
SUMMARY:Community Pool Open House
DESCRIPTION:Kick off your summer by enjoying free admission to the Community Pool between the hours of 12:00-5:00 pm. Make a splash by diving off the high or low diving boards or sliding down the brand new tot slide. Enjoy sun and shade areas\, concession stand\, and locker rooms with showers and lockers.
X-ALT-DESC;FMTTYPE=text/html:Kick off your summer by enjoying free admission to the Community Pool between the hours of 12:00-5:00 pm. Make a splash by diving off the high or low diving boards or sliding down the brand new tot slide. Enjoy sun and shade areas\, concession stand\, and locker rooms with showers and lockers.
LOCATION:Community Center\, 255 Briargate Road
UID:e.138.82
SEQUENCE:3
DTSTAMP:20260425T230252Z
URL:https://business.carygrovechamber.com/events/details/community-pool-open-house-06-15-2007-82
END:VEVENT

END:VCALENDAR
