BEGIN:VCALENDAR
VERSION:2.0
PRODID:-//ChamberMaster//Event Calendar 2.0//EN
METHOD:PUBLISH
X-PUBLISHED-TTL:P3D
REFRESH-INTERVAL:P3D
CALSCALE:GREGORIAN
BEGIN:VEVENT
DTSTART:20090228T160000Z
DTEND:20090228T220000Z
X-MICROSOFT-CDO-ALLDAYEVENT:FALSE
SUMMARY:Community Showcase
DESCRIPTION:27th Annual Community ShowcaseSaturday\, February 28Cary-Grove High School\, Three Oaks Rd.\, Cary 10:00 a.m. - 4:00 p.m. Booths are now available!    Showcase your business infront of nearly 2\,000 area residents!
X-ALT-DESC;FMTTYPE=text/html:<div><font size="4">27th Annual Community Showcase</font></div><div><font size="4">Saturday\, February 28</font></div><div><font size="4">Cary-Grove High School\, Three Oaks Rd.\, Cary</font></div><div>&nbsp\;</div><div><font size="4">10:00 a.m. - 4:00 p.m.</font></div><div>&nbsp\;</div><div><font size="4">Booths are now available!&nbsp\;&nbsp\;&nbsp\; Showcase your business infront of nearly 2\,000 area residents!</font></div>
LOCATION:Cary-Grove High School2208 Three Oaks Rd.\, Cary
UID:e.138.299
SEQUENCE:3
DTSTAMP:20260425T004505Z
URL:https://business.carygrovechamber.com/events/details/community-showcase-02-28-2009-299
END:VEVENT

END:VCALENDAR
