BEGIN:VCALENDAR
VERSION:2.0
PRODID:-//ChamberMaster//Event Calendar 2.0//EN
METHOD:PUBLISH
X-PUBLISHED-TTL:P3D
REFRESH-INTERVAL:P3D
CALSCALE:GREGORIAN
BEGIN:VEVENT
DTSTART;VALUE=DATE:20090723
DTEND;VALUE=DATE:20090724
TRANSP:TRANSPARENT
X-MICROSOFT-CDO-ALLDAYEVENT:TRUE
SUMMARY:Concert in the Park - 7th Heaven
DESCRIPTION:The Cary Park District is offering its "Concert in the Park" series every Thursday through July 23 at the Lions Park Rotary Bandshell on Silver Lake Road from 7:00 to 8:30 p.m. The final free concert is July 23\, featuring 7th Heaven\, a popular cover songs band you can sing and dance along with. Grab a blanket and picnic and come out and listen to these FREE Thursday evening shows. For more concert information\, visit www.carypark.com.
X-ALT-DESC;FMTTYPE=text/html:<div>The Cary Park District is offering its &quot\;Concert in the Park&quot\; series every Thursday through July 23 at the Lions Park Rotary Bandshell on Silver Lake Road from 7:00 to 8:30 p.m.</div><div>&nbsp\;</div><div>The final free concert is July 23\, featuring <em>7th Heaven</em>\, a popular cover songs band you can sing and dance along with.</div><div>&nbsp\;</div><div>Grab a blanket and picnic and come out and listen to these FREE Thursday evening shows. For more concert information\, visit www.carypark.com.</div>
LOCATION:Lions Park Rotary Bandshell on Silver Lake Road
UID:e.138.507
SEQUENCE:3
DTSTAMP:20260424T192604Z
URL:https://business.carygrovechamber.com/events/details/concert-in-the-park-7th-heaven-07-23-2009-507
END:VEVENT

END:VCALENDAR
