BEGIN:VCALENDAR
VERSION:2.0
PRODID:-//ChamberMaster//Event Calendar 2.0//EN
METHOD:PUBLISH
X-PUBLISHED-TTL:P3D
REFRESH-INTERVAL:P3D
CALSCALE:GREGORIAN
BEGIN:VEVENT
DTSTART:20080613T000000Z
DTEND:20080613T013000Z
X-MICROSOFT-CDO-ALLDAYEVENT:FALSE
SUMMARY:Concert In The Park - Alex & The Allstars
DESCRIPTION:Playing a variety of hits from the 70s until now\, Alex & The Allstars engage their audience with talented mucianship combined with a party-time attitude. Event is hosted by the Cary Park District.
X-ALT-DESC;FMTTYPE=text/html:Playing a variety of hits from the 70s until now\, Alex & The Allstars engage their audience with talented mucianship combined with a party-time attitude. Event is hosted by the Cary Park District.
LOCATION:Rotary Bandshell in Lions Park
UID:e.138.233
SEQUENCE:3
DTSTAMP:20260425T135233Z
URL:https://business.carygrovechamber.com/events/details/concert-in-the-park-alex-the-allstars-06-12-2008-233
END:VEVENT

END:VCALENDAR
