BEGIN:VCALENDAR
VERSION:2.0
PRODID:-//ChamberMaster//Event Calendar 2.0//EN
METHOD:PUBLISH
X-PUBLISHED-TTL:P3D
REFRESH-INTERVAL:P3D
CALSCALE:GREGORIAN
BEGIN:VEVENT
DTSTART:20070615T000000Z
DTEND:20070615T013000Z
X-MICROSOFT-CDO-ALLDAYEVENT:FALSE
SUMMARY:Concert In The Park - Alex & The Allstars
DESCRIPTION:Playing a variety of hits from the 70s until today\, Alex & The Allstars engage their audience with talented musicianship combined with a party-time attitude. The members of Alex & The Allstars are residents of the Cary\, Fox River Grove\, and Barrington area.
X-ALT-DESC;FMTTYPE=text/html:Playing a variety of hits from the 70s until today\, Alex & The Allstars engage their audience with talented musicianship combined with a party-time attitude. The members of Alex & The Allstars are residents of the Cary\, Fox River Grove\, and Barrington area.
LOCATION:Lions Park Rotary Bandshell\, 1200 Silver Lake Road
UID:e.138.81
SEQUENCE:3
DTSTAMP:20260425T230655Z
URL:https://business.carygrovechamber.com/events/details/concert-in-the-park-alex-the-allstars-06-14-2007-81
END:VEVENT

END:VCALENDAR
