BEGIN:VCALENDAR
VERSION:2.0
PRODID:-//ChamberMaster//Event Calendar 2.0//EN
METHOD:PUBLISH
X-PUBLISHED-TTL:P3D
REFRESH-INTERVAL:P3D
CALSCALE:GREGORIAN
BEGIN:VEVENT
DTSTART:20080718T000000Z
DTEND:20080718T013000Z
X-MICROSOFT-CDO-ALLDAYEVENT:FALSE
SUMMARY:Concert in the Park - British Export
DESCRIPTION:British Export takes audiences on a magical trip to the 60s with the most authentic Beatles tribute show in the world. They excite the senses with authentic instruments\, costumes\, and music that inspired a generation. This event is hosted by the Cary Park District and sponsored by Cary Bank & Trust.
X-ALT-DESC;FMTTYPE=text/html:British Export takes audiences on a magical trip to the 60s with the most authentic Beatles tribute show in the world. They excite the senses with authentic instruments\, costumes\, and music that inspired a generation. This event is hosted by the Cary Park District and sponsored by Cary Bank & Trust.
LOCATION:Rotary Bandshell in Lions Park
UID:e.138.237
SEQUENCE:3
DTSTAMP:20260425T121834Z
URL:https://business.carygrovechamber.com/events/details/concert-in-the-park-british-export-07-17-2008-237
END:VEVENT

END:VCALENDAR
