BEGIN:VCALENDAR
VERSION:2.0
PRODID:-//ChamberMaster//Event Calendar 2.0//EN
METHOD:PUBLISH
X-PUBLISHED-TTL:P3D
REFRESH-INTERVAL:P3D
CALSCALE:GREGORIAN
BEGIN:VEVENT
DTSTART:20080711T000000Z
DTEND:20080711T013000Z
X-MICROSOFT-CDO-ALLDAYEVENT:FALSE
SUMMARY:Concert in the Park - Final Say
DESCRIPTION:Comprised of four of Chicago's top musicians\, Final Say will energize the audience with a full rich sound\, tight grooves\, seamless harmonies and a non-stop high energy show. Their musical repertoire extends from the beginning of Rock-n-Roll all the way through today's hits. This event is hosted by the Cary Park District and sponsored by the Daily Herald.
X-ALT-DESC;FMTTYPE=text/html:Comprised of four of Chicago's top musicians\, Final Say will energize the audience with a full rich sound\, tight grooves\, seamless harmonies and a non-stop high energy show. Their musical repertoire extends from the beginning of Rock-n-Roll all the way through today's hits. This event is hosted by the Cary Park District and sponsored by the Daily Herald.
LOCATION:Rotary Bandshell in Lions Park
UID:e.138.236
SEQUENCE:3
DTSTAMP:20260425T121834Z
URL:https://business.carygrovechamber.com/events/details/concert-in-the-park-final-say-07-10-2008-236
END:VEVENT

END:VCALENDAR
