BEGIN:VCALENDAR
VERSION:2.0
PRODID:-//ChamberMaster//Event Calendar 2.0//EN
METHOD:PUBLISH
X-PUBLISHED-TTL:P3D
REFRESH-INTERVAL:P3D
CALSCALE:GREGORIAN
BEGIN:VEVENT
DTSTART:20080627T000000Z
DTEND:20080627T013000Z
X-MICROSOFT-CDO-ALLDAYEVENT:FALSE
SUMMARY:Concert in the Park - Mr. Myers
DESCRIPTION:Mr. Myers blends the tropical sounds of Calypso and Ska\, the rhythms of Reggae and a little Rock-n-Roll with some favorite classic tunes to create their own style of music - Caribbean Rock. This event is hosted by the Cary Park District.
X-ALT-DESC;FMTTYPE=text/html:Mr. Myers blends the tropical sounds of Calypso and Ska\, the rhythms of Reggae and a little Rock-n-Roll with some favorite classic tunes to create their own style of music - Caribbean Rock. This event is hosted by the Cary Park District.
LOCATION:Rotary Bandshell in Lions Park
UID:e.138.234
SEQUENCE:3
DTSTAMP:20260425T135140Z
URL:https://business.carygrovechamber.com/events/details/concert-in-the-park-mr-myers-06-26-2008-234
END:VEVENT

END:VCALENDAR
