BEGIN:VCALENDAR
VERSION:2.0
PRODID:-//ChamberMaster//Event Calendar 2.0//EN
METHOD:PUBLISH
X-PUBLISHED-TTL:P3D
REFRESH-INTERVAL:P3D
CALSCALE:GREGORIAN
BEGIN:VEVENT
DTSTART:20070629T000000Z
DTEND:20070629T013000Z
X-MICROSOFT-CDO-ALLDAYEVENT:FALSE
SUMMARY:Concert In The Park - Mr. Myers
DESCRIPTION:Mr. Myers blends the tropical sounds of Calypso and Ska\, the rhythms of Reggae and a little Rock-n-Roll with some favorite music - Caribbean Rock.
X-ALT-DESC;FMTTYPE=text/html:Mr. Myers blends the tropical sounds of Calypso and Ska\, the rhythms of Reggae and a little Rock-n-Roll with some favorite music - Caribbean Rock.
LOCATION:Lions Park Rotary Bandshell\, 1200 Silver Lake Road
UID:e.138.84
SEQUENCE:3
DTSTAMP:20260425T230945Z
URL:https://business.carygrovechamber.com/events/details/concert-in-the-park-mr-myers-06-28-2007-84
END:VEVENT

END:VCALENDAR
