BEGIN:VCALENDAR
VERSION:2.0
PRODID:-//ChamberMaster//Event Calendar 2.0//EN
METHOD:PUBLISH
X-PUBLISHED-TTL:P3D
REFRESH-INTERVAL:P3D
CALSCALE:GREGORIAN
BEGIN:VEVENT
DTSTART:20070622T000000Z
DTEND:20070622T013000Z
X-MICROSOFT-CDO-ALLDAYEVENT:FALSE
SUMMARY:Concert In The Park - Shirley King
DESCRIPTION:Being the blues singing daughter of B.B. King has not only earned Shirley King the titled "Daughter of the Blues"\, she is an outstanding singer and performer in her own right. From traditionals to originals\, her singing and stage antics will fire you up with passion and soul.
X-ALT-DESC;FMTTYPE=text/html:Being the blues singing daughter of B.B. King has not only earned Shirley King the titled "Daughter of the Blues"\, she is an outstanding singer and performer in her own right. From traditionals to originals\, her singing and stage antics will fire you up with passion and soul.
LOCATION:Lions Park Rotary Bandshell\, 1200 Silver Lake Road
UID:e.138.83
SEQUENCE:3
DTSTAMP:20260425T230905Z
URL:https://business.carygrovechamber.com/events/details/concert-in-the-park-shirley-king-06-21-2007-83
END:VEVENT

END:VCALENDAR
