BEGIN:VCALENDAR
VERSION:2.0
PRODID:-//ChamberMaster//Event Calendar 2.0//EN
METHOD:PUBLISH
X-PUBLISHED-TTL:P3D
REFRESH-INTERVAL:P3D
CALSCALE:GREGORIAN
BEGIN:VEVENT
DTSTART:20080704T000000Z
DTEND:20080704T013000Z
X-MICROSOFT-CDO-ALLDAYEVENT:FALSE
SUMMARY:Concert in the Park - The Daddy O's
DESCRIPTION:Put on your dancing shoes and let "The Daddy-O's" entertain you with the coolest Rock-n-Roll celebrating America's birthday. This event is hosted by the Cary Park District and sponsored by Home State Bank.
X-ALT-DESC;FMTTYPE=text/html:Put on your dancing shoes and let "The Daddy-O's" entertain you with the coolest Rock-n-Roll celebrating America's birthday. This event is hosted by the Cary Park District and sponsored by Home State Bank.
LOCATION:Rotary Bandshell at Lions Park
UID:e.138.235
SEQUENCE:3
DTSTAMP:20260425T121905Z
URL:https://business.carygrovechamber.com/events/details/concert-in-the-park-the-daddy-o-s-07-03-2008-235
END:VEVENT

END:VCALENDAR
