BEGIN:VCALENDAR
VERSION:2.0
PRODID:-//ChamberMaster//Event Calendar 2.0//EN
METHOD:PUBLISH
X-PUBLISHED-TTL:P3D
REFRESH-INTERVAL:P3D
CALSCALE:GREGORIAN
BEGIN:VEVENT
DTSTART:20090402T164500Z
DTEND:20090402T180000Z
X-MICROSOFT-CDO-ALLDAYEVENT:FALSE
SUMMARY:Conversations that Lead to Profit Box Lunch Seminar
DESCRIPTION:Register for Next Business Building Workshop   April 2Be sure to sign up for a workshop by Steven Brainerd of the Durham Group\, "Conversation that Leads to Profit!" scheduled for Thursday\, April 2 from 11:45 a.m. to 1 p.m. at the Fox River Grove Village Hall\, 305 Illinois Street.  Learn what to do to get more appointments and how to close the deal. Cost is $10 for members and includes a box lunch. Go to www.carygrovechamber.com for a registration form or call the Chamber at (847) 639-2800.
X-ALT-DESC;FMTTYPE=text/html:<div style="margin: 0in 0in 0pt"><strong><font size="6"><strong><font size="3">Register for Next Business Building Workshop &ndash\; April 2</font></strong></font></strong></div><div style="margin: 0in 0in 0pt\; line-height: 14.4pt"><span style="font-size: 11pt\; color: black">Be sure to sign up for a workshop by <strong>Steven Brainerd of the Durham Group</strong>\, &ldquo\;Conversation that Leads to Profit!&rdquo\; scheduled for Thursday\, April 2 from 11:45 a.m. to 1 p.m. at the Fox River Grove Village Hall\, 305 Illinois Street.&nbsp\;</span></div><div style="margin: 0in 0in 0pt\; line-height: 14.4pt">&nbsp\;</div><div style="margin: 0in 0in 0pt\; line-height: 14.4pt"><span style="font-size: 11pt\; color: black">Learn what to do to get more appointments and how to close the deal.&nbsp\;Cost is $10 for members and includes a box lunch.&nbsp\;</span><span style="font-size: 11pt\; color: black">Go to <a href="http://www.carygrovechamber.com/"><span style="color: black">www.carygrovechamber.com</span></a> for a registration form or call the Chamber at (847) 639-2800.</span></div>
LOCATION:Fox River Grove Village Hall305 Illinois Street
UID:e.138.424
SEQUENCE:3
DTSTAMP:20260424T214752Z
URL:https://business.carygrovechamber.com/events/details/conversations-that-lead-to-profit-box-lunch-seminar-04-02-2009-424
END:VEVENT

END:VCALENDAR
