BEGIN:VCALENDAR
VERSION:2.0
PRODID:-//ChamberMaster//Event Calendar 2.0//EN
METHOD:PUBLISH
X-PUBLISHED-TTL:P3D
REFRESH-INTERVAL:P3D
CALSCALE:GREGORIAN
BEGIN:VEVENT
DTSTART:20100316T233000Z
DTEND:20100317T010000Z
X-MICROSOFT-CDO-ALLDAYEVENT:FALSE
SUMMARY:Cooking Healthy At Home
DESCRIPTION:During these economic times\, it makes more sense than ever to eat at home.  Learn how to put your family's nutrition first.  Registered Dietitian Kate Olson will teach you easy steps for a delicious\, well-balanced meal with home cooking that your family will enjoy.  Learn about:  saving time and money by planning menus\, stocking your pantry with the right foods\, tips and shortcuts to help you make balanced meals delicious\, nutritious recipes that you can take home and use.
X-ALT-DESC;FMTTYPE=text/html:During these economic times\, it makes more sense than ever to eat at home.  Learn how to put your family's nutrition first.  Registered Dietitian Kate Olson will teach you easy steps for a delicious\, well-balanced meal with home cooking that your family will enjoy.  Learn about:  saving time and money by planning menus\, stocking your pantry with the right foods\, tips and shortcuts to help you make balanced meals delicious\, nutritious recipes that you can take home and use.
LOCATION:Advocate Good Shepherd Hospital 450 W. Highway 22 Barrington\, IL 60010
UID:e.138.610
SEQUENCE:3
DTSTAMP:20260424T110429Z
URL:https://business.carygrovechamber.com/events/details/cooking-healthy-at-home-03-16-2010-610
END:VEVENT

END:VCALENDAR
