BEGIN:VCALENDAR
VERSION:2.0
PRODID:-//ChamberMaster//Event Calendar 2.0//EN
METHOD:PUBLISH
X-PUBLISHED-TTL:P3D
REFRESH-INTERVAL:P3D
CALSCALE:GREGORIAN
BEGIN:VEVENT
DTSTART:20091020T233000Z
DTEND:20091021T010000Z
X-MICROSOFT-CDO-ALLDAYEVENT:FALSE
SUMMARY:Coping With Menopause
DESCRIPTION:Women can expect to experience menopause as a time of change\, challenge and personal freedom. Join Healther Herbolsheimer\, D.O. with Barrington Health Care for Women during this informative journey. learn the best ways to treat your symptoms while living a busy and active life. A light meal will be served!
X-ALT-DESC;FMTTYPE=text/html:<div>Women can expect to experience menopause as a time of change\, challenge and personal freedom.</div><div>&nbsp\;</div><div>Join Healther Herbolsheimer\, D.O. with Barrington Health Care for Women during this informative journey. learn the best ways to treat your symptoms while living a busy and active life. A light meal will be served!</div>
LOCATION:Advocate Good Shepherd Hospital450 W. Highway 22Barrington\, IL
UID:e.138.560
SEQUENCE:3
DTSTAMP:20260424T140049Z
URL:https://business.carygrovechamber.com/events/details/coping-with-menopause-10-20-2009-560
END:VEVENT

END:VCALENDAR
