BEGIN:VCALENDAR
VERSION:2.0
PRODID:-//ChamberMaster//Event Calendar 2.0//EN
METHOD:PUBLISH
X-PUBLISHED-TTL:P3D
REFRESH-INTERVAL:P3D
CALSCALE:GREGORIAN
BEGIN:VEVENT
DTSTART:20080730T230000Z
DTEND:20080731T013000Z
X-MICROSOFT-CDO-ALLDAYEVENT:FALSE
SUMMARY:Cruisin' Cary - Cobra / Mustang Night
DESCRIPTION:Cruisin' Cary - Cobra / Mustang Night
X-ALT-DESC;FMTTYPE=text/html:<div><font size="4">Cruisin&rsquo\; Cary -&nbsp\;Cobra / Mustang Night</font></div>
LOCATION:On West Main in downtown Cary
UID:e.138.248
SEQUENCE:3
DTSTAMP:20260425T105152Z
URL:https://business.carygrovechamber.com/events/details/cruisin-cary-cobra-mustang-night-07-30-2008-248
END:VEVENT

END:VCALENDAR
