BEGIN:VCALENDAR
VERSION:2.0
PRODID:-//ChamberMaster//Event Calendar 2.0//EN
METHOD:PUBLISH
X-PUBLISHED-TTL:P3D
REFRESH-INTERVAL:P3D
CALSCALE:GREGORIAN
BEGIN:VEVENT
DTSTART:20080611T230000Z
DTEND:20080612T013000Z
X-MICROSOFT-CDO-ALLDAYEVENT:FALSE
SUMMARY:Cruisin' Cary - Corvette Night
DESCRIPTION:Cruisin' Cary - Corvette Night
X-ALT-DESC;FMTTYPE=text/html:<div><font size="4">Cruisin&rsquo\; Cary - Corvette Night</font></div>
LOCATION:On West Main in downtown Cary
UID:e.138.241
SEQUENCE:3
DTSTAMP:20260425T121836Z
URL:https://business.carygrovechamber.com/events/details/cruisin-cary-corvette-night-06-11-2008-241
END:VEVENT

END:VCALENDAR
