BEGIN:VCALENDAR
VERSION:2.0
PRODID:-//ChamberMaster//Event Calendar 2.0//EN
METHOD:PUBLISH
X-PUBLISHED-TTL:P3D
REFRESH-INTERVAL:P3D
CALSCALE:GREGORIAN
BEGIN:VEVENT
DTSTART:20080604T230000Z
DTEND:20080605T013000Z
X-MICROSOFT-CDO-ALLDAYEVENT:FALSE
SUMMARY:Cruisin' Cary - Dust Off - All Cars
DESCRIPTION:Cruisin' Cary - Dust Off - All Cars and Antiques
X-ALT-DESC;FMTTYPE=text/html:<div><font size="4">Cruisin&rsquo\; Cary - Dust Off - All Cars and Antiques</font></div>
LOCATION:On West Main in downtown Cary
UID:e.138.240
SEQUENCE:3
DTSTAMP:20260425T121958Z
URL:https://business.carygrovechamber.com/events/details/cruisin-cary-dust-off-all-cars-06-04-2008-240
END:VEVENT

END:VCALENDAR
