BEGIN:VCALENDAR
VERSION:2.0
PRODID:-//ChamberMaster//Event Calendar 2.0//EN
METHOD:PUBLISH
X-PUBLISHED-TTL:P3D
REFRESH-INTERVAL:P3D
CALSCALE:GREGORIAN
BEGIN:VEVENT
DTSTART:20070829T233000Z
DTEND:20070830T020000Z
X-MICROSOFT-CDO-ALLDAYEVENT:FALSE
SUMMARY:Cruisin' Cary - Show Us Your Best Vehicle
DESCRIPTION:Cruisin' Cary - Show Us Your Best Vehicle
X-ALT-DESC;FMTTYPE=text/html:<div><font size="4">Cruisin&rsquo\; Cary - Show Us Your Best Vehicle</font></div>
LOCATION:On West Main in downtown Cary
UID:e.138.110
SEQUENCE:3
DTSTAMP:20260426T015017Z
URL:https://business.carygrovechamber.com/events/details/cruisin-cary-show-us-your-best-vehicle-08-29-2007-110
END:VEVENT

END:VCALENDAR
