BEGIN:VCALENDAR
VERSION:2.0
PRODID:-//ChamberMaster//Event Calendar 2.0//EN
METHOD:PUBLISH
X-PUBLISHED-TTL:P3D
REFRESH-INTERVAL:P3D
CALSCALE:GREGORIAN
BEGIN:VEVENT
DTSTART:20080709T230000Z
DTEND:20080710T013000Z
X-MICROSOFT-CDO-ALLDAYEVENT:FALSE
SUMMARY:Cruisin' Cary - Street Rod and Import Sports Car Night
DESCRIPTION:Cruisin' Cary - Street Rod and Import Sports Car Night Since July 2 Cruisin' Cary night got rained out\, this Wednesday's theme will be Street Rod and Import Sports Car Night.  Awards will be presented in both categories.
X-ALT-DESC;FMTTYPE=text/html:<div><font size="4">Cruisin&rsquo\; Cary -&nbsp\;Street Rod and Import Sports Car Night</font></div><div>&nbsp\;</div><div><font size="4"><span style="font-size: 11pt\; color: black\; font-family: &quot\;Arial&quot\;\,&quot\;sans-serif&quot\;\; mso-bidi-font-size: 12.0pt\; mso-fareast-font-family: Batang\; mso-bidi-font-family: 'Times New Roman'\; mso-font-kerning: 1.0pt\; mso-ansi-language: EN-US\; mso-fareast-language: KO\; mso-bidi-language: AR-SA">Since July 2 Cruisin&rsquo\; Cary night got rained out\, this Wednesday&rsquo\;s theme will be Street Rod and Import Sports Car Night.<span style="mso-spacerun: yes">&nbsp\; </span>Awards will be presented in both categories.<span style="mso-spacerun: yes">&nbsp\; </span></span></font></div>
LOCATION:On West Main in downtown Cary
UID:e.138.245
SEQUENCE:3
DTSTAMP:20260425T105630Z
URL:https://business.carygrovechamber.com/events/details/cruisin-cary-street-rod-and-import-sports-car-night-07-09-2008-245
END:VEVENT

END:VCALENDAR
