BEGIN:VCALENDAR
VERSION:2.0
PRODID:-//ChamberMaster//Event Calendar 2.0//EN
METHOD:PUBLISH
X-PUBLISHED-TTL:P3D
REFRESH-INTERVAL:P3D
CALSCALE:GREGORIAN
BEGIN:VEVENT
DTSTART:20080702T230000Z
DTEND:20080703T013000Z
X-MICROSOFT-CDO-ALLDAYEVENT:FALSE
SUMMARY:Cruisin' Cary - Street Rod Night
DESCRIPTION:Cruisin' Cary - Street Rod Night
X-ALT-DESC;FMTTYPE=text/html:<font size="4">Cruisin&rsquo\; Cary - Street Rod Night</font>
LOCATION:On West Main in downtown Cary
UID:e.138.244
SEQUENCE:3
DTSTAMP:20260425T105332Z
URL:https://business.carygrovechamber.com/events/details/cruisin-cary-street-rod-night-07-02-2008-244
END:VEVENT

END:VCALENDAR
