BEGIN:VCALENDAR
VERSION:2.0
PRODID:-//ChamberMaster//Event Calendar 2.0//EN
METHOD:PUBLISH
X-PUBLISHED-TTL:P3D
REFRESH-INTERVAL:P3D
CALSCALE:GREGORIAN
BEGIN:VEVENT
DTSTART;VALUE=DATE:20080713
DTEND;VALUE=DATE:20080714
TRANSP:TRANSPARENT
X-MICROSOFT-CDO-ALLDAYEVENT:TRUE
SUMMARY:Cruisin' Classic Car Show at Five O'Clock Steakhouse
DESCRIPTION:Cruisin' Classic Car Show at Five O'Clock Steakhouse. Free event for spectators with complimentary appetizers. $10 entrance fee to show your classic car. $30 gift card for participants. "Best in Show" wins dinner for two.
X-ALT-DESC;FMTTYPE=text/html:<div style="margin: 0in 0in 0pt\; line-height: 14.4pt"><font size="2"><span><span style="font-size: 10pt\; color: black">Cruisin&rsquo\; Classic Car Show at Five O'Clock Steakhouse</span><span style="font-size: 10pt\; color: black">.</span><span style="font-size: 10pt\; color: black">&nbsp\;</span><span style="font-size: 10pt\; color: black">Free event for spectators with complimentary appetizers.&nbsp\;$10 entrance fee to show your classic car.&nbsp\;$30 gift card for participants.&nbsp\;&ldquo\;Best in Show&rdquo\; wins dinner for two.&nbsp\;</span></span></font></div>
LOCATION:Five O'Clock Steakhouse.1050 Northwest Highway\, Fox River Grove.
UID:e.138.270
SEQUENCE:3
DTSTAMP:20260425T121959Z
URL:https://business.carygrovechamber.com/events/details/cruisin-classic-car-show-at-five-o-clock-steakhouse-07-13-2008-270
END:VEVENT

END:VCALENDAR
