BEGIN:VCALENDAR
VERSION:2.0
PRODID:-//ChamberMaster//Event Calendar 2.0//EN
METHOD:PUBLISH
X-PUBLISHED-TTL:P3D
REFRESH-INTERVAL:P3D
CALSCALE:GREGORIAN
BEGIN:VEVENT
DTSTART;VALUE=DATE:20090912
DTEND;VALUE=DATE:20090914
TRANSP:TRANSPARENT
X-MICROSOFT-CDO-ALLDAYEVENT:TRUE
SUMMARY:Customer Appreciation at Barn Nursery!
DESCRIPTION:Sept 12&13 - Customer Appreciation\nFace Painting 10-2 Sat & SUn\nFree Refreshments and Hot Dogs\nRaffles and Giveaways\nSat at 10:30: Perennial Grass Seminar with Heather!
X-ALT-DESC;FMTTYPE=text/html:<div>Sept 12&amp\;13 - Customer Appreciation<br />Face Painting 10-2 Sat &amp\; SUn<br />Free Refreshments and Hot Dogs<br />Raffles and Giveaways<br />Sat at 10:30: Perennial Grass Seminar with Heather!<br />&nbsp\;</div>
LOCATION:The BARN NURSERY and LANDSCAPE CENTER 8109 South Route 31 Cary\, IL 60013
UID:e.138.543
SEQUENCE:3
DTSTAMP:20260424T163436Z
URL:https://business.carygrovechamber.com/events/details/customer-appreciation-at-barn-nursery-09-12-2009-543
END:VEVENT

END:VCALENDAR
