BEGIN:VCALENDAR
VERSION:2.0
PRODID:-//ChamberMaster//Event Calendar 2.0//EN
METHOD:PUBLISH
X-PUBLISHED-TTL:P3D
REFRESH-INTERVAL:P3D
CALSCALE:GREGORIAN
BEGIN:VEVENT
DTSTART:20090907T160000Z
DTEND:20090907T210000Z
X-MICROSOFT-CDO-ALLDAYEVENT:FALSE
SUMMARY:Customer Appreciation Corn Roast - Countryside Flower Shop
DESCRIPTION:Stop by Countryside Flower Shop\, Nursery\, & Garden Center on Monday\, September 7 for their Annual Customer Appreciation Corn Roast from 11 a.m. to 4 p.m. Enjoy fresh roasted corn on the cob\, watermelon\, lemonade\, popcorn\, face painting! Don't miss their fun contests for "Largest Vegetable Grown" and "Best Dressed Veggie." Get creative and dress up your favorite vegetable. Prizes include $50 gift certificate\, fresh floral bouquet and 20% off shopping spree! Have your veggies there by 11 a.m. on Labor Day for judging by their customers during the corn roast. Winners will be notified on Tuesday\, September 8.The weather is perfect for planting! Take advantage with some special offers and save 40 to 50% on all trees shrubs and evergreens\, 20% on perennials\, ornamental grasses and vines\, 30% on fountains and benches\, 40 to 80% on silk stems\, and $10 off container gardens and annual hanging baskets. Sale ends September 7\, 2009. Countryside is located at 5301 E. Terra Cotta Avenue in Crystal Lake. For more information call (815) 459-8130 or visit www.countrysideflowershop.com.
X-ALT-DESC;FMTTYPE=text/html:<div>Stop by Countryside Flower Shop\, Nursery\, &amp\; Garden Center on Monday\, September 7 for their Annual Customer Appreciation Corn Roast from 11 a.m. to 4 p.m. Enjoy fresh roasted corn on the cob\, watermelon\, lemonade\, popcorn\, face painting! Don&rsquo\;t miss their fun contests for &quot\;Largest Vegetable Grown&quot\; and &quot\;Best Dressed Veggie.&quot\; Get creative and dress up your favorite vegetable. Prizes include $50 gift certificate\, fresh floral bouquet and 20% off shopping spree! Have your veggies there by 11 a.m. on Labor Day for judging by their customers during the corn roast. Winners will be notified on Tuesday\, September 8.</div><div>The weather is perfect for planting! Take advantage with some special offers and save 40 to 50% on all trees shrubs and evergreens\, 20% on perennials\, ornamental grasses and vines\, 30% on fountains and benches\, 40 to 80% on silk stems\, and $10 off container gardens and annual hanging baskets. Sale ends September 7\, 2009. Countryside is located at 5301 E. Terra Cotta Avenue in Crystal Lake. For more information call (815) 459-8130 or visit www.countrysideflowershop.com.</div>
LOCATION:Countryside Flowe Shop\, Nusery & Garden Center5301 E. Terra Cotta Avenue in Crystal Lake.
UID:e.138.570
SEQUENCE:3
DTSTAMP:20260424T163620Z
URL:https://business.carygrovechamber.com/events/details/customer-appreciation-corn-roast-countryside-flower-shop-09-07-2009-570
END:VEVENT

END:VCALENDAR
