BEGIN:VCALENDAR
VERSION:2.0
PRODID:-//ChamberMaster//Event Calendar 2.0//EN
METHOD:PUBLISH
X-PUBLISHED-TTL:P3D
REFRESH-INTERVAL:P3D
CALSCALE:GREGORIAN
BEGIN:VEVENT
DTSTART;VALUE=DATE:20090810
DTEND;VALUE=DATE:20090824
TRANSP:TRANSPARENT
X-MICROSOFT-CDO-ALLDAYEVENT:TRUE
SUMMARY:CYB 2009 Fall Ball Registration
DESCRIPTION:Cary Youth Baseball is taking registrations for Fall Ball. The season runs from August 30 through October 25 on Sundays only\, excluding the Sunday before Labor Day\, September 6 and is open to players who will be entering the Mustang or Midget leagues in the Spring of 2010 through the Pony and Major leagues.  Fall Ball is for those interested in getting more baseball in before winter starts or looking to improve their skills.  This is a non-competitive league.  CYB encourages coaches and players to use this opportunity to teach and learn the fundamentals of baseball and understand the rules of the league they are playing in. Cost is $80 and includes t-shirt\, ball cap and socks.  To register\, visit www.caryyouthbaseball.org/onlinereg.
X-ALT-DESC;FMTTYPE=text/html:Cary Youth Baseball is taking registrations for Fall Ball. The season runs from August 30 through October 25 on Sundays only\, excluding the Sunday before Labor Day\, September 6 and is open to players who will be entering the Mustang or Midget leagues in the Spring of 2010 through the Pony and Major leagues.  Fall Ball is for those interested in getting more baseball in before winter starts or looking to improve their skills.  This is a non-competitive league.  CYB encourages coaches and players to use this opportunity to teach and learn the fundamentals of baseball and understand the rules of the league they are playing in. Cost is $80 and includes t-shirt\, ball cap and socks.  To register\, visit www.caryyouthbaseball.org/onlinereg.
LOCATION:
UID:e.138.538
SEQUENCE:3
DTSTAMP:20260424T180041Z
URL:https://business.carygrovechamber.com/events/details/cyb-2009-fall-ball-registration-08-10-2009-538
END:VEVENT

END:VCALENDAR
