BEGIN:VCALENDAR
VERSION:2.0
PRODID:-//ChamberMaster//Event Calendar 2.0//EN
METHOD:PUBLISH
X-PUBLISHED-TTL:P3D
REFRESH-INTERVAL:P3D
CALSCALE:GREGORIAN
BEGIN:VEVENT
DTSTART;VALUE=DATE:20090720
DTEND;VALUE=DATE:20090721
TRANSP:TRANSPARENT
X-MICROSOFT-CDO-ALLDAYEVENT:TRUE
SUMMARY:Cybercrime Classes
DESCRIPTION:Guidry Consulting presents a Cybercrime class\, "How To Protect Yourself From Cybercrime" through the Cary Park District on Monday\, July 20 from 9:30 to 11:30 a.m. at the Kraus Senior Center\, 441 W. Main Street in Cary.  Learn how to keep your PC or Mac secure from the latest Internet threats.  For more information\, please visit Guidry Consulting at www.guidryconsulting.com/news.html or call Triona at (847) 540-5938. To register\, contact the Cary Park District\, (847) 639-6100
X-ALT-DESC;FMTTYPE=text/html:<div>Guidry Consulting presents a Cybercrime class\,&nbsp\;&quot\;How To Protect Yourself From Cybercrime&quot\;&nbsp\;through the Cary Park District on Monday\,&nbsp\;July 20 from 9:30 to 11:30 a.m. at the Kraus Senior Center\,&nbsp\;441&nbsp\;W. Main Street in Cary.&nbsp\; Learn how to keep your PC or&nbsp\;Mac secure from the latest Internet threats.&nbsp\;&nbsp\;For more information\, please visit Guidry Consulting at www.guidryconsulting.com/news.html or call Triona at (847) 540-5938. To register\, contact the Cary Park District\, (847) 639-6100</div>
LOCATION:Kraus Senior Center441 W. Main Street in Cary
UID:e.138.516
SEQUENCE:3
DTSTAMP:20260424T191729Z
URL:https://business.carygrovechamber.com/events/details/cybercrime-classes-07-20-2009-516
END:VEVENT

END:VCALENDAR
