BEGIN:VCALENDAR
VERSION:2.0
PRODID:-//ChamberMaster//Event Calendar 2.0//EN
METHOD:PUBLISH
X-PUBLISHED-TTL:P3D
REFRESH-INTERVAL:P3D
CALSCALE:GREGORIAN
BEGIN:VEVENT
DTSTART:20120421T130000Z
DTEND:20120421T170000Z
X-MICROSOFT-CDO-ALLDAYEVENT:FALSE
SUMMARY:Daibetes Health Fair
DESCRIPTION:Advocate Good Shepherd Hospital\n\n\n\nDiabetes Health Fair\n\n\n\n\n\nWhen: Saturday\, April 21st from 8 a.m. to noon\n\n\n\nLocation: Advocate Good Shepherd Hospital Outpatient Center Crystal Lake\n\n525 Congress Parkway\, Crystal Lake\n\n\n\nCost: $10.00\n\n\n\nScreenings will include a finger stick blood glucose level (12 hour fast is required do take regular medications) and an A1C Level.\n\n\n\nAll patients will have the opportunity to meet with our Endocrinologist\, Daniel So\, M.D.\, and our Diabetes Educators.\n\n\n\nFollow up screenings will be made if necessary.\n\n\n\nTo register\, call 1.800.3.ADVOCATE (1.800.323.8622) and mention the class code 3D04 or go to www.advocatehealth.com/gshp click on "I need a class or support group" and type the class code in the keyword box.
X-ALT-DESC;FMTTYPE=text/html:Advocate Good Shepherd Hospital<br />\n<br />\nDiabetes Health Fair<br />\n<br />\n<br />\nWhen: Saturday\, April 21st from 8 a.m. to noon<br />\n<br />\nLocation: Advocate Good Shepherd Hospital Outpatient Center&mdash\;Crystal Lake<br />\n525 Congress Parkway\, Crystal Lake<br />\n<br />\nCost: $10.00<br />\n<br />\nScreenings will include a finger stick blood glucose level (12 hour fast is required&mdash\;do take regular medications) and an A1C Level.<br />\n<br />\nAll patients will have the opportunity to meet with our Endocrinologist\, Daniel So\, M.D.\, and our Diabetes Educators.<br />\n<br />\nFollow up screenings will be made if necessary.<br />\n<br />\nTo register\, call 1.800.3.ADVOCATE (1.800.323.8622) and mention the class code 3D04 or go to www.advocatehealth.com/gshp click on &ldquo\;I need a class or support group&rdquo\; and type the class code in the keyword box.<br />\n<br />\n
LOCATION:Advocate Good Shepherd Outpatient Center-Crystal Lake 525 Congress Parkway\, Crystal Lake\, IL 60014
UID:e.138.3379
SEQUENCE:3
DTSTAMP:20260424T090257Z
URL:https://business.carygrovechamber.com/events/details/daibetes-health-fair-04-21-2012-3379
END:VEVENT

END:VCALENDAR
