BEGIN:VCALENDAR
VERSION:2.0
PRODID:-//ChamberMaster//Event Calendar 2.0//EN
METHOD:PUBLISH
X-PUBLISHED-TTL:P3D
REFRESH-INTERVAL:P3D
CALSCALE:GREGORIAN
BEGIN:VEVENT
DTSTART;VALUE=DATE:20090629
DTEND;VALUE=DATE:20090630
TRANSP:TRANSPARENT
X-MICROSOFT-CDO-ALLDAYEVENT:TRUE
SUMMARY:Dairy Queen and CYB Fundraiser
DESCRIPTION:Help support Cary Baseball! Dairy Queen in Cary will be donating 15% of their sales on Monday\, June 29 from 11:30 a.m. to 11 p.m. to Cary Youth Baseball. Visit www.caryyouthbaseball.com and print off the flyer and present to the cashier at the time of purchase. Dairy Queen is located at 3106 Three Oaks Road in Cary\, next to Jimmy John's and Cardinal Fitness. Proceeds will go towards the purchase of equipment\, repairs and maintenance required for CYB to continually offer and operate a quality sports program for the children that participate in Cary Baseball and Softball. To reach DQ\, call (847) 462-8514.
X-ALT-DESC;FMTTYPE=text/html:<div>Help support Cary Baseball! Dairy Queen in Cary will be donating 15% of their sales on Monday\, June 29 from 11:30 a.m. to 11 p.m. to Cary Youth Baseball. Visit www.caryyouthbaseball.com and print off the flyer and present to the cashier at the time of purchase. Dairy Queen is located at 3106 Three Oaks Road in Cary\, next to Jimmy John's and Cardinal Fitness. Proceeds will go towards the purchase of equipment\, repairs and maintenance required for CYB to continually offer and operate a quality sports program for the children that participate in Cary Baseball and Softball. To reach DQ\, call (847) 462-8514.</div>
LOCATION:Dairy Queen3106 Three Oaks Road in Cary
UID:e.138.500
SEQUENCE:3
DTSTAMP:20260424T203232Z
URL:https://business.carygrovechamber.com/events/details/dairy-queen-and-cyb-fundraiser-06-29-2009-500
END:VEVENT

END:VCALENDAR
