BEGIN:VCALENDAR
VERSION:2.0
PRODID:-//ChamberMaster//Event Calendar 2.0//EN
METHOD:PUBLISH
X-PUBLISHED-TTL:P3D
REFRESH-INTERVAL:P3D
CALSCALE:GREGORIAN
BEGIN:VEVENT
DTSTART:20190724T220000Z
DTEND:20190725T000000Z
X-MICROSOFT-CDO-ALLDAYEVENT:FALSE
SUMMARY:Dave Martin at Raue Center Café
DESCRIPTION:Dave Martin at Raue Center Caf  JULY 24 @ 5-7p FREE ADMISSION! Solo Acoustic Performance. Heartland balladeer Dave Martin describes his work as "95% autobiographical"\, a statement attested to by his narratives about carefree exploits\, comical two-bit criminals\, and quieter reflections that appraise his place among his midwestern surroundings. A University of Iowa Journalism graduate who is etching a songwriting sensibility that lies at the wry musical crossroads somewhere near where Jimmy Buffett and Greg Brown meet\, Martin puts his journalistic skills to good use to tell stories that alternately poke fun at and thoughtfully regard the human condition\; a soft\, warm touch consistently ensured. Raue Center hosts some of the best local talents around in its cafe space. Dedicated to realizing its mission of Arts for All\, Raue Center is proud to host local talent free of charge to our community. Artists are welcome to hone their skills in a warm\, cozy atmosphere while patrons are free to indulge in a selection of beverages from our cafe bar. If you are interested in performing in our cafe space please email program manager\, Kayti Sault at ksault@rauecenter.org. Cafe programming is sponsored by Piano Trends.
X-ALT-DESC;FMTTYPE=text/html:Dave Martin at Raue Center Caf&eacute\; JULY 24 @ 5-7p FREE ADMISSION! Solo Acoustic Performance. Heartland balladeer Dave Martin describes his work as &ldquo\;95% autobiographical&rdquo\;\, a statement attested to by his narratives about carefree exploits\, comical two-bit criminals\, and quieter reflections that appraise his place among his midwestern surroundings. A University of Iowa Journalism graduate who is etching a songwriting sensibility that lies at the wry musical crossroads somewhere near where Jimmy Buffett and Greg Brown meet\, Martin puts his journalistic skills to good use to tell stories that alternately poke fun at and thoughtfully regard the human condition\; a soft\, warm touch consistently ensured. Raue Center hosts some of the best local talents around in its cafe space. Dedicated to realizing its mission of Arts for All\, Raue Center is proud to host local talent free of charge to our community. Artists are welcome to hone their skills in a warm\, cozy atmosphere while patrons are free to indulge in a selection of beverages from our cafe bar. If you are interested in performing in our cafe space please email program manager\, Kayti Sault at ksault@rauecenter.org. Cafe programming is sponsored by Piano Trends.
LOCATION:Raue Center For The Arts 26 N. Williams Street Crystal Lake\, IL 60014
UID:e.138.9658
SEQUENCE:3
DTSTAMP:20260419T164125Z
URL:https://business.carygrovechamber.com/events/details/dave-martin-at-raue-center-caf&#233;-07-24-2019-9658
END:VEVENT

END:VCALENDAR
