BEGIN:VCALENDAR
VERSION:2.0
PRODID:-//ChamberMaster//Event Calendar 2.0//EN
METHOD:PUBLISH
X-PUBLISHED-TTL:P3D
REFRESH-INTERVAL:P3D
CALSCALE:GREGORIAN
BEGIN:VEVENT
DTSTART;VALUE=DATE:20090530
DTEND;VALUE=DATE:20090531
TRANSP:TRANSPARENT
X-MICROSOFT-CDO-ALLDAYEVENT:TRUE
SUMMARY:Dinner and Auction at Crystal Lake Country Club
DESCRIPTION:A dinner and auction fundraiser by the Leona Farms Restoration Society on Saturday\, May 30 at the Crystal Lake Country Club. Silent auction\, appetizers and cash bar begins at 6 p.m. with dinner and music by the Frothy Boys at 7 p.m. The live auction will begin at 9:30 p.m. by Auctioneer and Woodstock Mayor Dr. Brian Sager. Visit www.leonafarm.org/auction for a list of auction items including vacation homes in the Florida Keys\, Huatulco\, Mexico\, Northern Michigan and more. Cost is $45 per person. Monetary donations are being accepted along with auction items. If you wish to donate\, contact Don Pelletier at (847) 639-7838 or e-mail nabsales@mc.net. For tickets\, call Wally at (847) 639-2924 or Don at (847) 639-7838. All proceeds will benefit the restoration of Leona Farm Fen\, a nine-acre area located in Trout Valley near the Fox River. For more information\, visit www.leonafarm.org.
X-ALT-DESC;FMTTYPE=text/html:<div>A dinner and auction fundraiser&nbsp\;by the Leona Farms Restoration Society on Saturday\, May 30 at the Crystal Lake Country Club. Silent auction\, appetizers and cash bar begins at 6 p.m. with dinner and music by the Frothy Boys at 7 p.m. The live auction will begin at 9:30 p.m. by Auctioneer and Woodstock Mayor Dr. Brian Sager. Visit www.leonafarm.org/auction for a list of auction items including vacation homes in the Florida Keys\, Huatulco\, Mexico\, Northern Michigan and more. Cost is $45 per person. Monetary donations are being accepted along with auction items. If you wish to donate\, contact Don Pelletier at (847) 639-7838 or e-mail nabsales@mc.net. For tickets\, call Wally at (847) 639-2924 or Don at (847) 639-7838. All proceeds&nbsp\;will benefit the restoration of Leona Farm Fen\, a nine-acre area located in Trout Valley near the Fox River. For more information\, visit www.leonafarm.org.</div>
LOCATION:Crystal Lake Country Club
UID:e.138.467
SEQUENCE:3
DTSTAMP:20260424T215550Z
URL:https://business.carygrovechamber.com/events/details/dinner-and-auction-at-crystal-lake-country-club-05-30-2009-467
END:VEVENT

END:VCALENDAR
