BEGIN:VCALENDAR
VERSION:2.0
PRODID:-//ChamberMaster//Event Calendar 2.0//EN
METHOD:PUBLISH
X-PUBLISHED-TTL:P3D
REFRESH-INTERVAL:P3D
CALSCALE:GREGORIAN
BEGIN:VEVENT
DTSTART:20091106T003000Z
DTEND:20091106T023000Z
X-MICROSOFT-CDO-ALLDAYEVENT:FALSE
SUMMARY:Dinner with a Doc
DESCRIPTION:Cary Chiropractic is hosting an evening of fun\, friendship\, and education about chiropractic care. The evening starts with a delicious and satisfying meal and after dinner Dr. Barthen will explain the benefits of receiving chiropractic care. Dinner is for all patients who bring adult guests who are not patients at Cary Chiropractic already. The evening is free for patients and their guests. Please call 847-639-0010 to reserve your spot.
X-ALT-DESC;FMTTYPE=text/html:Cary Chiropractic is hosting an evening of fun\, friendship\, and education about chiropractic care. The evening starts with a delicious and satisfying meal and after dinner Dr. Barthen will explain the benefits of receiving chiropractic care. Dinner is for all patients who bring adult guests who are not patients at Cary Chiropractic already. The evening is free for patients and their guests. Please call 847-639-0010 to reserve your spot. 
LOCATION:
UID:e.138.596
SEQUENCE:3
DTSTAMP:20260424T140050Z
URL:https://business.carygrovechamber.com/events/details/dinner-with-a-doc-11-05-2009-596
END:VEVENT

END:VCALENDAR
