BEGIN:VCALENDAR
VERSION:2.0
PRODID:-//ChamberMaster//Event Calendar 2.0//EN
METHOD:PUBLISH
X-PUBLISHED-TTL:P3D
REFRESH-INTERVAL:P3D
CALSCALE:GREGORIAN
BEGIN:VEVENT
DTSTART;VALUE=DATE:20091211
DTEND;VALUE=DATE:20091212
TRANSP:TRANSPARENT
X-MICROSOFT-CDO-ALLDAYEVENT:TRUE
SUMMARY:Disability Workshop
DESCRIPTION:One out of every 5 people in the U.S. are persons with disabilities.  The Illinois Chamber of Commerce\, on behalf of disabilityworks is coordinating free regional summits.  The Barrington Chamber is hosting this free disability seminar on Friday\, December 11 at the Makray Memorial Golf Club\, 1010 S. Northwest Hwy. in Barrington from 8 a.m. to 11:30 a.m. This educational workshop will offer an opportunity for employers to learn the economic benefits of employing people with disabilities as well as how the American with Disabilities Amendments Act (ADA) carries over to the current aging workforce.  With the mission to increase employment opportunities for people with disabilities throughout Illinois\, disabilityworks provides subject matter experts to advise businesses on how to hire\, retain\, and accommodate people with disabilities successfully.  Registration is required. Visit www.barringtonchamber.com to register or call (847) 381-2525.
X-ALT-DESC;FMTTYPE=text/html:One out of every 5 people in the U.S. are persons with disabilities.  The Illinois Chamber of Commerce\, on behalf of disabilityworks is coordinating free regional summits.  The Barrington Chamber is hosting this free disability seminar on Friday\, December 11 at the Makray Memorial Golf Club\, 1010 S. Northwest Hwy. in Barrington from 8 a.m. to 11:30 a.m. This educational workshop will offer an opportunity for employers to learn the economic benefits of employing people with disabilities as well as how the American with Disabilities Amendments Act (ADA) carries over to the current aging workforce.  With the mission to increase employment opportunities for people with disabilities throughout Illinois\, disabilityworks provides subject matter experts to advise businesses on how to hire\, retain\, and accommodate people with disabilities successfully.  Registration is required. Visit www.barringtonchamber.com to register or call (847) 381-2525. 
LOCATION:Makray Memorial Golf Club\, 1010 S. Northwest Hwy. in Barrington
UID:e.138.649
SEQUENCE:3
DTSTAMP:20260424T124335Z
URL:https://business.carygrovechamber.com/events/details/disability-workshop-12-11-2009-649
END:VEVENT

END:VCALENDAR
