BEGIN:VCALENDAR
VERSION:2.0
PRODID:-//ChamberMaster//Event Calendar 2.0//EN
METHOD:PUBLISH
X-PUBLISHED-TTL:P3D
REFRESH-INTERVAL:P3D
CALSCALE:GREGORIAN
BEGIN:VEVENT
DTSTART;VALUE=DATE:20091015
DTEND;VALUE=DATE:20091016
TRANSP:TRANSPARENT
X-MICROSOFT-CDO-ALLDAYEVENT:TRUE
SUMMARY:Disaster Recovery Plan Class
DESCRIPTION:Do You Need a Disaster Recovery Plan?Speaker: Bernie Boona of Fox Valley Accounting Solutions Thursday\, October 15 from 12 noon to 1:00 p.m.Cary Village Hall\, 655 Village Hall Drive\, Cary$10 members\, $20 non-membersBox Lunch Included Disasters come in many forms! Do you have only one employee who knows how to do certain tasks? What happens when they leave?  Can you survive days with a computer shutdown? What if a power outage destroys some of your files?  Learn how to keep your business running no matter what.Reservations are required\, call the Chamber at (847) 639-2800 to reserve your spot.
X-ALT-DESC;FMTTYPE=text/html:<div><div><div><font color="#0000ff" size="2"><strong>Do You Need a Disaster Recovery Plan?</strong></font></div><div><strong>Speaker: Bernie Boona of Fox Valley Accounting Solutions </strong></div><div><strong>Thursday\, October 15&nbsp\;from 12 noon to 1:00 p.m.</strong></div><div>Cary Village Hall\, 655 Village Hall Drive\, Cary</div><div>$10 members\, $20 non-members</div><div>Box Lunch Included</div><div>&nbsp\;</div><div><p class="MsoNormal" style="line-height: 14.4pt\; margin: 0in 0in 0pt"><span style="font-family: Arial\; color: black\; font-size: 11pt\; mso-bidi-font-size: 12.0pt">Disasters come in many forms! Do you have only one employee who knows how&nbsp\;to do certain tasks? What&nbsp\;happens when they leave?&nbsp\; Can you survive days with a computer shutdown? What if a power outage destroys some of your files?&nbsp\;&nbsp\;Learn how to keep your business running no matter what.</span></p><p class="MsoNormal" style="line-height: 14.4pt\; margin: 0in 0in 0pt"><span style="font-family: Arial\; color: black\; font-size: 11pt\; mso-bidi-font-size: 12.0pt">Reservations are required\,&nbsp\;call the Chamber at (847) 639-2800 to reserve your spot.<o:p></o:p></span></p></div></div></div>
LOCATION:Cary Village Hall655 Village Hall Drive\, Cary
UID:e.138.546
SEQUENCE:3
DTSTAMP:20260424T140049Z
URL:https://business.carygrovechamber.com/events/details/disaster-recovery-plan-class-10-15-2009-546
END:VEVENT

END:VCALENDAR
