BEGIN:VCALENDAR
VERSION:2.0
PRODID:-//ChamberMaster//Event Calendar 2.0//EN
METHOD:PUBLISH
X-PUBLISHED-TTL:P3D
REFRESH-INTERVAL:P3D
CALSCALE:GREGORIAN
BEGIN:VEVENT
DTSTART:20090214T150000Z
DTEND:20090214T180000Z
X-MICROSOFT-CDO-ALLDAYEVENT:FALSE
SUMMARY:Do Something Good for your Heart
DESCRIPTION:FOR WOMEN ONLY...Attend this special heart screening and lecture just for women and learn your cardiac risk! Advocate Good Shepherd Hospital\, in partnership with the women legislators of Illinois\, is offering free cardiac risk assessments to help you care for your heart. Please note these are non-fasting screenings sl fasting is not necessary. Each screening will include total cholesterol (including HDL)\, blood pressure and weight to determine your cardiac risk number and counseling with a cardiac nurse. Registration is required. Follow up lecture: "Understanding and Improving Your Cardiac Health Status" at Good Shepherd Hospital Health & Fitness Center\, 1301 S. Barrington Rd.\, Barrington on Thursday\, February 26\, 6:30-8 p.m.
X-ALT-DESC;FMTTYPE=text/html:<div>FOR WOMEN ONLY...Attend this special heart screening and lecture just for women and learn your cardiac risk! Advocate Good Shepherd Hospital\, in partnership with the women legislators of Illinois\, is offering free cardiac risk assessments to help you care for your heart. Please note these are non-fasting screenings sl fasting is not necessary. Each screening will include total cholesterol (including HDL)\, blood pressure and weight to determine your cardiac risk number and counseling with a cardiac nurse. Registration is required. Follow up lecture: &quot\;Understanding and Improving Your Cardiac Health Status&quot\; at Good Shepherd Hospital Health &amp\; Fitness Center\, 1301 S. Barrington Rd.\, Barrington on Thursday\, February 26\, 6:30-8 p.m.</div>
LOCATION:Adovcate Good Shepherd Outpatient Center Crystal Lake 525 Congress Parkeway Crystal Lake\, IL 60014
UID:e.138.401
SEQUENCE:3
DTSTAMP:20260425T004732Z
URL:https://business.carygrovechamber.com/events/details/do-something-good-for-your-heart-02-14-2009-401
END:VEVENT

END:VCALENDAR
