BEGIN:VCALENDAR
VERSION:2.0
PRODID:-//ChamberMaster//Event Calendar 2.0//EN
METHOD:PUBLISH
X-PUBLISHED-TTL:P3D
REFRESH-INTERVAL:P3D
CALSCALE:GREGORIAN
BEGIN:VEVENT
DTSTART:20071115T230000Z
DTEND:20071116T010000Z
X-MICROSOFT-CDO-ALLDAYEVENT:FALSE
SUMMARY:Dolce Day Spa Mixer
DESCRIPTION:Dolce Day Spa Mixer
X-ALT-DESC;FMTTYPE=text/html:<div><font size="4">Dolce Day Spa Mixer</font></div>
LOCATION:875 Feinberg Court\, Suite 100\, Cary Take Route 14 to Feinberg Court (next to Blockbuster)
UID:e.138.141
SEQUENCE:3
DTSTAMP:20260425T221305Z
URL:https://business.carygrovechamber.com/events/details/dolce-day-spa-mixer-11-15-2007-141
END:VEVENT

END:VCALENDAR
