BEGIN:VCALENDAR
VERSION:2.0
PRODID:-//ChamberMaster//Event Calendar 2.0//EN
METHOD:PUBLISH
X-PUBLISHED-TTL:P3D
REFRESH-INTERVAL:P3D
CALSCALE:GREGORIAN
BEGIN:VEVENT
DTSTART:20100817T233000Z
DTEND:20100818T010000Z
X-MICROSOFT-CDO-ALLDAYEVENT:FALSE
SUMMARY:Don't Skip a Beat: Get your heart in rhythm with electrophysiology
DESCRIPTION:About 2.2 million americans are living with atrial fibrillation according to the American Heart Association.  Arrhythmias can occur in a healthy heart and be of minimal consequence.  They also may indicate a serious problem and lead to heart disease\, stroke or sudden cardiac death.  Raymond Kawasaki M.D. with Midwest Heart Specialists will share his expert knowledge on cardiac electrophysiology and treatment options.  A light meal will be served!
X-ALT-DESC;FMTTYPE=text/html:About 2.2 million americans are living with atrial fibrillation according to the American Heart Association.  Arrhythmias can occur in a healthy heart and be of minimal consequence.  They also may indicate a serious problem and lead to heart disease\, stroke or sudden cardiac death.  Raymond Kawasaki M.D. with Midwest Heart Specialists will share his expert knowledge on cardiac electrophysiology and treatment options.  A light meal will be served!
LOCATION:Advocate Good Shepherd Hospital 450 W. Highway 22 Barrington\, IL 60010
UID:e.138.824
SEQUENCE:3
DTSTAMP:20260424T004257Z
URL:https://business.carygrovechamber.com/events/details/don-t-skip-a-beat-get-your-heart-in-rhythm-with-electrophysiology-08-17-2010-824
END:VEVENT

END:VCALENDAR
