BEGIN:VCALENDAR
VERSION:2.0
PRODID:-//ChamberMaster//Event Calendar 2.0//EN
METHOD:PUBLISH
X-PUBLISHED-TTL:P3D
REFRESH-INTERVAL:P3D
CALSCALE:GREGORIAN
BEGIN:VEVENT
DTSTART;VALUE=DATE:20100301
DTEND;VALUE=DATE:20100501
TRANSP:TRANSPARENT
X-MICROSOFT-CDO-ALLDAYEVENT:TRUE
SUMMARY:Donate Shoes for Haiti Victims at New Balance Crystal Lake
DESCRIPTION:New Balance Crystal Lake and Soles4Souls have partnered to bring shoes to victims of the devastating earthquake in Haiti. New Balance Crystal Lake will collect footwear to support Soles4Souls' commitment to donate more than 1 million pairs of shoes to affected areas. Beginning March 1 through April 30\, drop off gently worn shoes to New Balance Crystal Lake\, 1 AW Crystal Lake Plaza. Donate a worn pair and receive a $10.00 discount in conjunction with their 10th annual "Trade 'Em In" sale. Soles4Souls is a charity that collects shoes and distribute them for free to people in need around the world. Visit www.giveshoes.org. New Balance is the only athletic shoe manufacturer still making shoes in the United States. New Balance Crystal Lake is a ProCare Certified retailer with a Certified Pedorthist on staff\, offering a full line of New Balance Athletic shoes and apparel\, as well as Dunham and Aravon. Visit www.nbcrystallake.com or call (815) 444-7239.
X-ALT-DESC;FMTTYPE=text/html:<div><div style="line-height: 14.4pt\; margin: 0in 0in 0pt"><b><span style="color: black\; font-size: 11pt">New Balance</span><b><span style="color: black\; font-size: 11pt"> Crystal Lake</span></b><span style="color: black\; font-size: 11pt"> and Soles4Souls have partnered to bring shoes to victims of the devastating earthquake in </span><span style="color: black\; font-size: 11pt">Haiti</span><span style="color: black\; font-size: 11pt">. New Balance Crystal Lake will collect footwear to support Soles4Souls&rsquo\; commitment to donate more than 1 million pairs of shoes to affected areas. Beginning March 1 through April 30\, drop off gently worn shoes to New Balance Crystal Lake\, 1 AW Crystal Lake Plaza.&nbsp\;Donate a worn pair and receive a $10.00 discount in conjunction with their 10th annual &ldquo\;Trade &lsquo\;Em In&rdquo\; sale.&nbsp\;Soles4Souls is a charity that collects shoes and distribute them for free to people in need around the world. Visit <a target="_blank" href="http://www.giveshoes.org/"><span style="color: black">www.giveshoes.org</span></a>. New Balance is the only athletic shoe manufacturer still making shoes in the </span><span style="color: black\; font-size: 11pt">United States</span><span style="color: black\; font-size: 11pt">.&nbsp\;New Balance Crystal Lake is a ProCare Certified retailer with a Certified Pedorthist on staff\, offering a full line of New Balance Athletic shoes and apparel\, as well as Dunham and Aravon. Visit www.nbcrystallake.com or call (815) 444-7239. </span></b></div></div>
LOCATION:New Balance Crystal Lake1 AW Crystal Lake Plaza (Route 14)Crystal Lake
UID:e.138.733
SEQUENCE:3
DTSTAMP:20260424T110833Z
URL:https://business.carygrovechamber.com/events/details/donate-shoes-for-haiti-victims-at-new-balance-crystal-lake-03-01-2010-733
END:VEVENT

END:VCALENDAR
