BEGIN:VCALENDAR
VERSION:2.0
PRODID:-//ChamberMaster//Event Calendar 2.0//EN
METHOD:PUBLISH
X-PUBLISHED-TTL:P3D
REFRESH-INTERVAL:P3D
CALSCALE:GREGORIAN
BEGIN:VEVENT
DTSTART;VALUE=DATE:20080612
DTEND;VALUE=DATE:20080702
TRANSP:TRANSPARENT
X-MICROSOFT-CDO-ALLDAYEVENT:TRUE
SUMMARY:Donations for Troops
DESCRIPTION:Troops Living Care (TLC)\, sponsored by the Cary Grove Referral Network and Power Partners are coordinating a donation drive for our troops. Three young men from Fox River Grove\, SPC Nathaniel Cassidy\, Michael Dorrington and PFC Corey L. Harber are serving in the U.S. Army in Iraq and are wishing to receive some items\, such as crackers\, beef jerkey\, Power Bars\, drink mix packets\, razors\, baby wipes\, toothpaste\, shaving cream\, used men?s magazines/comic books\, flip flops\, soft toilet paper\, men?s crew socks size 10-13\, anti-fungal foot powder\, small flashlights and more. All items should be new and no glass or aerosol. Items collected will be shipped to them for their own needs as well as to other troops. Drop off your donations during business hours in June at Barrington Print & Copy\, 200 James Street in Barrington\, The UPS Store\, 728 Northwest Hwy. in Fox River Grove or at Cary Bank & Trust\, 60 E. Main Street in Cary. For more information\, call Suzanne at (847) 722-6669 or Cyndi at (847) 382-1185.
X-ALT-DESC;FMTTYPE=text/html:<div>Troops Living Care (TLC)\, sponsored by the Cary Grove Referral Network and Power Partners are coordinating a donation drive for our troops. Three young men from Fox River Grove\, SPC Nathaniel Cassidy\, Michael Dorrington and PFC Corey L. Harber are serving in the U.S. Army in Iraq and are wishing to receive some items\, such as crackers\, beef jerkey\, Power Bars\, drink mix packets\, razors\, baby wipes\, toothpaste\, shaving cream\, used men?s magazines/comic books\, flip flops\, soft toilet paper\, men?s crew socks size 10-13\, anti-fungal foot powder\, small flashlights and more. All items should be new and no glass or aerosol. Items collected will be shipped to them for their own needs as well as to other troops. Drop off your donations during business hours in June at Barrington Print &amp\; Copy\, 200 James Street in Barrington\, The UPS Store\, 728 Northwest Hwy. in Fox River Grove or at Cary Bank &amp\; Trust\, 60 E. Main Street in Cary. For more information\, call Suzanne at (847) 722-6669 or Cyndi at (847) 382-1185.</div>
LOCATION:Drop off your donations during business hours in June at Barrington Print & Copy\, 200 James Street in Barrington\, The UPS Store\, 728 Northwest Hwy. in Fox River Grove or at Cary Bank & Trust\, 60 E. Main Street in Cary.
UID:e.138.258
SEQUENCE:3
DTSTAMP:20260425T121717Z
URL:https://business.carygrovechamber.com/events/details/donations-for-troops-06-12-2008-258
END:VEVENT

END:VCALENDAR
