BEGIN:VCALENDAR
VERSION:2.0
PRODID:-//ChamberMaster//Event Calendar 2.0//EN
METHOD:PUBLISH
X-PUBLISHED-TTL:P3D
REFRESH-INTERVAL:P3D
CALSCALE:GREGORIAN
BEGIN:VEVENT
DTSTART;VALUE=DATE:20070601
DTEND;VALUE=DATE:20070603
TRANSP:TRANSPARENT
X-MICROSOFT-CDO-ALLDAYEVENT:TRUE
SUMMARY:Donut Days
DESCRIPTION:69th Summer Fund raising\, proceeds of which allows The Salvation Army to provide services to the needy in McHenry County   You can help us help others by volunteering to collect.
X-ALT-DESC;FMTTYPE=text/html:69th Summer Fund raising\, proceeds of which allows The Salvation Army to provide services to the needy in McHenry County   You can help us help others by volunteering to collect.
LOCATION:Dominick's in Fox River Grove. The Coffee Station and Dunkin Donuts in Cary
UID:e.138.72
SEQUENCE:3
DTSTAMP:20260425T230236Z
URL:https://business.carygrovechamber.com/events/details/donut-days-06-01-2007-72
END:VEVENT

END:VCALENDAR
